Workbook
Name chuong_pl_82: '54'!$B$1
Name chuong_pl_82_name: '54'!$A$3
Name chuong_pl_82_name_name: '54'!$A$4
Name chuong_pl_83: '55'!$B$1
Name chuong_pl_83_name: '55'!$A$3
Name chuong_pl_83_name_name: '55'!$A$4
Name chuong_pl_84: '56'!$B$1
Name chuong_pl_84_name: '56'!$A$3
Name chuong_pl_84_name_name: '56'!$A$4

Sheet 54
A1: UBND XÃ HIỆP LỰC | E1: Mẫu biểu số 54 TheoNghị định 26/2026/TT-BTC Ngày 25/3/2026 của Bộ Tài chính
A3: TÌNH HÌNH CÂN ĐỐI NSĐP QUÝ 1 NĂM 2026
A4: (Kèm theo Báo cáo số 129/BC-UBND ngày 10 tháng 4 năm 2026 của UBND xã Hiệp Lực)
E5: Đơn vị: đồng
A6: STT | B6: Nội dung | C6: Dự toán | D6: Ước thực hiện | F6: Ước …. tháng so (%)
D7: Quý 1 | E7: Lũy kế năm | F7: Dự toán | G7: Cùng kỳ năm...
A8: A | B8: B | C8: 1 | D8: 2 | E8: 3 | F8: 4=3/1 | G8: 5
A9: A | B9: TỔNG THU NSNN TRÊN ĐỊA BÀN | C9: =C10 -> 1800000000 | D9: =D10 -> 716269629 | E9: =E10 -> 716269629 | F9: =F10 -> 0.39792757
A10: I | B10: Thu nội địa | C10: 1800000000 | D10: ='55'!D10 -> 716269629 | E10: =D10 -> 716269629 | F10: =E10/C10 -> 0.39792757
A11: II | B11: Thu từ dầu thô
A12: III | B12: Thu từ hoạt động xuất nhập khẩu
A13: IV | B13: Thu viện trợ
A14: B | B14: TỔNG THU NGÂN SÁCH ĐỊA PHƯƠNG | C14: =C15+C19+C23+C24 -> 100632000000 | D14: =D15+D19+D23+D24 -> 47337212351 | E14: =E15+E19+E23+E24 -> 47337212351 | F14: =D14/C14 -> 0.4703992
A15: I | B15: Thu NSĐP được hưởng theo phân cấp | C15: 1660000000 | D15: =SUM(D16:D18) -> 626279473 | E15: =SUM(E16:E18) -> 626279473 | F15: =D15/C15 -> 0.37727679
A16: 1 | B16: Các khoản thu NSĐP hưởng 100% | D16: 572259624 | E16: =D16 -> 572259624
A17: 2 | B17: Thuế giá trị gia tăng (phần NSĐP hưởng 30%)
A18: 3 | B18: Các khoản thu phân chia NSĐP theo tỷ lệ % | D18: 54019849 | E18: =D18 -> 54019849
A19: II | B19: Thu bổ sung từ ngân sách cấp trên | C19: =C20+C21 -> 98972000000 | D19: =D20+D21 -> 23550350000 | E19: =E20+E21 -> 23550350000 | F19: =D19/C19 -> 0.23794962
A20: 1 | B20: Thu bổ sung cân đối ngân sách | C20: 69621000000 | D20: 15000000000 | E20: =D20 -> 15000000000 | F20: =D20/C20 -> 0.21545223
A21: 2 | B21: Thu bổ sung có mục tiêu | C21: 29351000000 | D21: 8550350000 | E21: =D21 -> 8550350000 | F21: =D21/C21 -> 0.29131375
A22: III | B22: Thu từ quỹ dự trữ tài chính
A23: IV | B23: Thu kết dư
A24: V | B24: Thu chuyển nguồn từ năm trước chuyển sang | D24: 23160582878 | E24: =D24 -> 23160582878
A25: C | B25: TỔNG CHI NSĐP | C25: =C26+C35 -> 100632000000 | D25: =D26+D35 -> 18033432751 | E25: =E26+E35 -> 18033432751 | F25: =D25/C25 -> 0.17920177
A26: I | B26: Chi cân đối ngân sách địa phương | C26: =SUM(C27:C34) -> 97361000000 | D26: =SUM(D27:D34) -> 17295094759 | E26: =SUM(E27:E34) -> 17295094759 | F26: =D26/C26 -> 0.17763884
A27: 1 | B27: Chi đầu tư phát triển | C27: 2031000000 | F27: =D27/C27 -> 0
A28: 2 | B28: Chi thường xuyên | C28: ='56'!C15 -> 93557000000 | D28: ='56'!D15 -> 16522094759 | E28: =D28 -> 16522094759 | F28: =D28/C28 -> 0.17659924
A29: 3 | B29: Chi cho vay
A30: 4 | B30: Chi viện trợ
A31: 5 | B31: Chi trả nợ lãi
A32: 6 | B32: Chi bổ sung quỹ dự trữ tài chính
A33: 7 | B33: Dự phòng NSNN | C33: 1773000000 | D33: 773000000 | E33: =D33 -> 773000000 | F33: =D33/C33 -> 0.43598421
A34: 8 | B34: Các nhiệm vụ chi khác
A35: II | B35: Chi từ nguồn bổ sung có mục tiêu từ NSTW cho NSĐP | C35: ='56'!C25 -> 3271000000 | D35: ='56'!D25 -> 738337992 | E35: =D35 -> 738337992 | F35: =D35/C35 -> 0.22572241
A36: III | B36: Chi chuyển nguồn sang năm sau

Sheet 55
A1: ='54'!A1:B1 -> UBND XÃ HIỆP LỰC | E1: Mẫu biểu số 55 TheoNghị định 26/2026/TT-BTC Ngày 25/3/2026 của Bộ Tài chính
A3: ƯỚC THỰC HIỆN THU NSNN QUÝ 1 NĂM 2026
A4: ='54'!chuong_pl_82_name_name -> (Kèm theo Báo cáo số 129/BC-UBND ngày 10 tháng 4 năm 2026 của UBND xã Hiệp Lực)
E5: Đơn vị: đồng
A6: STT | B6: Nội dung | C6: Dự toán | D6: Ước thực hiện | F6: Ước... Quý so (%)
D7: Quý 1 | E7: Lũy kế năm | F7: Dự toán | G7: Cùng kỳ năm 2025
A8: A | B8: B | C8: 1 | D8: 2 | E8: 3 | F8: 4 | G8: 5
A9: A | B9: TỔNG THU NSNN TRÊN ĐỊA BÀN | C9: =C10 -> 1800000000 | D9: =D10 -> 716269629 | E9: =E10 -> 716269629 | F9: =D9/C9 -> 0.39792757
A10: I | B10: Thu nội địa | C10: =C13+C11+C12+C14+C15+C16+C18+C24+C32 -> 1800000000 | D10: =D13+D11+D12+D14+D15+D16+D18+D24+D32 -> 716269629 | E10: =E13+E11+E12+E14+E15+E16+E18+E24+E32 -> 716269629 | F10: =D10/C10 -> 0.39792757
A11: 1 | B11: Thu từ khu vực doanh nghiệp nhà nước
A12: 2 | B12: Thu từ khu vực doanh nghiệp có vốn ĐTNN
A13: 3 | B13: Thu từ khu vực kinh tế ngoài quốc doanh | C13: 331000000 | D13: 122788306 | E13: =D13 -> 122788306 | F13: =D13/C13 -> 0.37096165
A14: 4 | B14: Thuế thu nhập cá nhân | C14: 186000000 | D14: 41140157 | E14: =D14 -> 41140157 | F14: =D14/C14 -> 0.22118364
A15: 5 | B15: Thuế bảo vệ môi trường
A16: 6 | B16: Các loại phí, lệ phí | C16: =890000000+116000000 -> 1006000000 | D16: =D17+36989000 -> 509382750 | E16: =D16 -> 509382750 | F16: =D16/C16 -> 0.50634468
B17: Trđó: Lệ phí trước bạ | C17: 890000000 | D17: 472393750 | E17: =D17 -> 472393750 | F17: =D17/C17 -> 0.53077949
A18: 7 | B18: Các khoản thu về nhà, đất | C18: =C20+C21+C22 -> 77000000 | D18: =D20+D21+D22 -> 306566 | E18: =E20+E21+E22 -> 306566 | F18: =D18/C18 -> 0.0039813766
A19: - | B19: Thuế sử dụng đất nông nghiệp
A20: - | B20: Thuế sử dụng đất phi nông nghiệp | C20: 2000000 | D20: 306566 | E20: =D20 -> 306566 | F20: =D20/C20 -> 0.153283
A21: - | B21: Thu tiền cho thuê đất, thuê mặt nước | C21: 35000000 | F21: =D21/C21 -> 0
A22: - | B22: Thu tiền sử dụng đất | C22: 40000000 | F22: =D22/C22 -> 0
A23: - | B23: Thu tiền cho thuê và tiền bán nhà thuộc sở hữu NN
A24: 8 | B24: Thu tiền sử dụng khu vực biển
A25: 9 | B25: Thu từ khai thác, xử lý tài sản công xử lý theo quy định của pháp luật về quản lý, sử dụng tài sản công
A26: 10 | B26: Thu từ hoạt động xổ số
A27: 11 | B27: Thu tiền cấp quyền khai thác khoáng sản, tài nguyên nước, cấp quyền sử dụng tần số vô tuyến điện, thu tiền sử dụng khu vực biển
A28: 12 | B28: Thu hồi vốn, thu cổ tức, lợi nhuận, lợi nhuận sau thuế, chênh lệch thu chi của Ngân hàng Nhà nước
A29: - | B29: Thu hồi vốn NSNN đầu tư tại tổ chức kinh tế
A30: - | B30: Thu cổ tức, lợi nhuận, lợi nhuận sau thuế, chênh lệch thu chi của Ngân hàng Nhà nước
A31: 13 | B31: Thu quỹ đất công ích và hoa lợi công sản khác
A32: 14 | B32: Thu khác ngân sách | C32: 200000000 | D32: 42651850 | E32: =D32 -> 42651850 | F32: =D32/C32 -> 0.21325925
A33: II | B33: Thu từ dầu thô
A34: III | B34: Thu từ hoạt động xuất nhập khẩu
A35: 1 | B35: Thuế GTGT thu từ hàng hóa nhập khẩu
A36: 2 | B36: Thuế xuất khẩu
A37: 3 | B37: Thuế nhập khẩu
A38: 4 | B38: Thuế TTĐB thu từ hàng hóa nhập khẩu
A39: 5 | B39: Thuế BVMT thu từ hàng hóa nhập khẩu
A40: 6 | B40: Thuế bổ sung đối với hàng hóa nhập khẩu
A41: 7 | B41: Thuế khác
...

Sheet 56
A1: ='55'!A1:B1 -> UBND XÃ HIỆP LỰC | E1: Mẫu biểu số 56.1 TheoNghị định 26/2026/TT-BTC Ngày 25/3/2026 của Bộ Tài chính
A3: ƯỚC THỰC HIỆN CHI NSNN QUÝ 1 NĂM 2026
A4: ='55'!chuong_pl_83_name_name -> (Kèm theo Báo cáo số 129/BC-UBND ngày 10 tháng 4 năm 2026 của UBND xã Hiệp Lực)
F5: Đơn vị: đồng
A6: STT | B6: Nội dung | C6: Dự toán | D6: Ước thực hiện | F6: Ước...Quý so (%)
D7: Quý 1 | E7: Lũy kế năm | F7: Dự toán | G7: Cùng kỳ năm...
A8: A | B8: B | C8: 1 | D8: 2 | E8: 3 | F8: 4=3/1 | G8: 5
B9: TỔNG CHI NSĐP | C9: =C10+C25 -> 100632000000 | D9: =D10+D25 -> 18033432751 | E9: =E10+E25 -> 18033432751 | F9: =E9/C9 -> 0.17920177
A10: A | B10: CHI CÂN ĐỐI NSĐP | C10: =C12+C15+C22 -> 97361000000 | D10: =D12+D15+D22 -> 17295094759 | E10: =E12+E15+E22 -> 17295094759 | F10: =E10/C10 -> 0.17763884
A11: I | B11: Chi đầu tư phát triển | C11: =C12 -> 2031000000 | D11: =D12 -> 0 | E11: =E12 -> 0
A12: 1 | B12: Chi đầu tư phát triển theo ngành, lĩnh vực | C12: =2031000000 -> 2031000000 | F12: =E12/C12 -> 0
A13: 2 | B13: Chi chương trình mục tiêu quốc gia
A14: II | B14: Chi trả nợ lãi
A15: III | B15: Chi thường xuyên | C15: =67477000000+26080000000 -> 93557000000 | D15: =17260432751-738337992 -> 16522094759 | E15: =D15 -> 16522094759 | F15: =E15/C15 -> 0.17659924
B16: Trong đó:
B17: - Chi giáo dục, đào tạo và dạy nghề | C17: =41752000000+12371000000 -> 54123000000 | D17: 9273548612 | E17: =D17 -> 9273548612 | F17: =E17/C17 -> 0.1713421
B18: - Chi khoa học, công nghệ, đổi mới sáng tạo và chuyển đổi số | C18: 414000000 | F18: =E18/C18 -> 0
A19: IV | B19: Chi cho vay
A20: V | B20: Chi viện trợ
A21: VI | B21: Chi bổ sung quỹ dự trữ tài chính
A22: VII | B22: Dự phòng ngân sách nhà nước | C22: 1773000000 | D22: 773000000 | E22: =D22 -> 773000000 | F22: =E22/C22 -> 0.43598421
A23: VIII | B23: Chi cải cách tiền lương, tinh giản biên chế
A24: IX | B24: Các nhiệm vụ chi khác
A25: B | B25: CHI TỪ NGUỒN BỔ SUNG CÓ MỤC TIÊU TỪ NSTW CHO NSĐP | C25: =C27+C26+C30 -> 3271000000 | D25: =D27+D26+D30 -> 738337992 | E25: =E27+E26+E30 -> 738337992 | F25: =E25/C25 -> 0.22572241
A26: 1 | B26: Chi đầu tư thực hiện các chương trình, nhiệm vụ, dự án
A27: 2 | B27: Chi thường xuyên thực hiện các chế độ, chính sách | C27: =C28+C29 -> 3271000000 | D27: =D28+D29 -> 738337992 | E27: =E28+E29 -> 738337992 | F27: =E27/C27 -> 0.22572241
B28: Kinh phí thực hiện chính sách, chế độ ưu đãi người có công với cách mạng | C28: 3000000000 | D28: 738337992 | E28: =D28 -> 738337992 | F28: =E28/C28 -> 0.24611266
B29: Kinh phí hỗ trợ địa phương sản xuất lúa | C29: 271000000 | F29: =E29/C29 -> 0
A30: 3 | B30: Chi thực hiện các chương trình mục tiêu quốc gia
